BEGIN:VCALENDAR
VERSION:2.0
PRODID:-//Almanach - ECPv6.15.20//NONSGML v1.0//EN
CALSCALE:GREGORIAN
METHOD:PUBLISH
X-WR-CALNAME:Almanach
X-ORIGINAL-URL:https://almanach-des-joueurs.com
X-WR-CALDESC:Évènements pour Almanach
REFRESH-INTERVAL;VALUE=DURATION:PT1H
X-Robots-Tag:noindex
X-PUBLISHED-TTL:PT1H
BEGIN:VTIMEZONE
TZID:Europe/Paris
BEGIN:DAYLIGHT
TZOFFSETFROM:+0100
TZOFFSETTO:+0200
TZNAME:CEST
DTSTART:20220327T010000
END:DAYLIGHT
BEGIN:STANDARD
TZOFFSETFROM:+0200
TZOFFSETTO:+0100
TZNAME:CET
DTSTART:20221030T010000
END:STANDARD
BEGIN:DAYLIGHT
TZOFFSETFROM:+0100
TZOFFSETTO:+0200
TZNAME:CEST
DTSTART:20230326T010000
END:DAYLIGHT
BEGIN:STANDARD
TZOFFSETFROM:+0200
TZOFFSETTO:+0100
TZNAME:CET
DTSTART:20231029T010000
END:STANDARD
BEGIN:DAYLIGHT
TZOFFSETFROM:+0100
TZOFFSETTO:+0200
TZNAME:CEST
DTSTART:20240331T010000
END:DAYLIGHT
BEGIN:STANDARD
TZOFFSETFROM:+0200
TZOFFSETTO:+0100
TZNAME:CET
DTSTART:20241027T010000
END:STANDARD
END:VTIMEZONE
BEGIN:VEVENT
DTSTART;VALUE=DATE:20231117
DTEND;VALUE=DATE:20231120
DTSTAMP:20260425T161654
CREATED:20230317T004738Z
LAST-MODIFIED:20240110T231807Z
UID:1694-1700179200-1700438399@almanach-des-joueurs.com
SUMMARY:Convention 2023 des Contes d'Automne
DESCRIPTION:La convention « Contes d’Automne: III – Dragon » est prévue du 17 au 19 novembre 2023 au Monastère de Ségriès à Moustiers-Ste-Marie (04360). \nCe lieu magique\, situé dans un tendre vallon provençal\, offre un havre de paix hors du temps pour un séjour ludique et culturel inoubliable. Les portes du monastère\, reconverti en maison d’hôtes de charme\, s’ouvriront le vendredi 17 novembre à 17h et se refermeront le dimanche 19 novembre à 17h. \nPendant votre séjour\, vous pourrez découvrir les différents univers des jeux de rôle\, des jeux de société\, des wargames\, de la littérature et de l’illustration en rencontrant des professionnels de ces domaines. Le cloître\, avec ses alcôves feutrées\, ainsi que plusieurs salons vous offriront des espaces propices à l’imagination et vous pourrez profiter de nombreuses tables de jeux dans un cadre intimiste au cachet incomparable. \nLes heures de repas seront également un moment de plaisir\, avec une équipe professionnelle et chaleureuse qui se fera un plaisir de vous délecter de plats délicieux et variés\, servis dans la grande salle de réception ou sur les terrasses adjacentes si le temps le permet. Les régimes spécifiques seront bien entendu pris en compte. \nVous pourrez également vous détendre à la taverne médiévale où vous trouverez une boisson ou un encas à tout moment. \nUne fois la nuit tombée\, vous pourrez rejoindre votre chambre et vous endormir avec la tête pleine de rêves de chevaliers\, de dragons et de sorcières. Les chambres\, d’une capacité d’accueil de 2 à 6 personnes maximum\, sont toutes équipées d’une salle de bain privative. La décoration\, sélectionnée avec goût par le propriétaire du Monastère\, vous permettra de rester dans l’ambiance magique des lieux. Les draps seront fournis par l’organisation\, vous n’aurez donc pas besoin d’encombrer vos bagages avec vos duvets !
URL:https://almanach-des-joueurs.com/event/convention-des-contes-dautomne/
LOCATION:Monastère de Ségriès\, 04360 Moustiers-Sainte-Marie.\, Moustiers-Sainte-Marie.\, 04360\, France
CATEGORIES:Jeux de Rôle
ATTACH;FMTTYPE=image/jpeg:https://almanach-des-joueurs.com/wp-content/uploads/2023/03/331507299_1245663112791942_7589537309632669106_n.jpg
END:VEVENT
END:VCALENDAR