BEGIN:VCALENDAR
VERSION:2.0
PRODID:-//Almanach - ECPv6.15.20//NONSGML v1.0//EN
CALSCALE:GREGORIAN
METHOD:PUBLISH
X-WR-CALNAME:Almanach
X-ORIGINAL-URL:https://almanach-des-joueurs.com
X-WR-CALDESC:Évènements pour Almanach
REFRESH-INTERVAL;VALUE=DURATION:PT1H
X-Robots-Tag:noindex
X-PUBLISHED-TTL:PT1H
BEGIN:VTIMEZONE
TZID:Europe/Paris
BEGIN:DAYLIGHT
TZOFFSETFROM:+0100
TZOFFSETTO:+0200
TZNAME:CEST
DTSTART:20240331T010000
END:DAYLIGHT
BEGIN:STANDARD
TZOFFSETFROM:+0200
TZOFFSETTO:+0100
TZNAME:CET
DTSTART:20241027T010000
END:STANDARD
BEGIN:DAYLIGHT
TZOFFSETFROM:+0100
TZOFFSETTO:+0200
TZNAME:CEST
DTSTART:20250330T010000
END:DAYLIGHT
BEGIN:STANDARD
TZOFFSETFROM:+0200
TZOFFSETTO:+0100
TZNAME:CET
DTSTART:20251026T010000
END:STANDARD
BEGIN:DAYLIGHT
TZOFFSETFROM:+0100
TZOFFSETTO:+0200
TZNAME:CEST
DTSTART:20260329T010000
END:DAYLIGHT
BEGIN:STANDARD
TZOFFSETFROM:+0200
TZOFFSETTO:+0100
TZNAME:CET
DTSTART:20261025T010000
END:STANDARD
END:VTIMEZONE
BEGIN:VEVENT
DTSTART;VALUE=DATE:20250704
DTEND;VALUE=DATE:20250707
DTSTAMP:20260424T100538
CREATED:20230624T210736Z
LAST-MODIFIED:20250325T171452Z
UID:2122-1751587200-1751846399@almanach-des-joueurs.com
SUMMARY:Jeux de rôle sous les étoiles - 1er Opus
DESCRIPTION:Nous sommes ravis de vous annoncer la date officielle de notre événement « Jeux de Rôle sous les Étoiles » : le 15 juillet 2023. Le plus beau\, c’est que l’entrée est GRATUITE pour tous les maîtres de jeu ! Venez vivre une expérience unique de jeu de rôle en plein air sous le ciel étoilé. \nQuoi de mieux que de passer l’été en profitant des jeux de rôle en plein air? Avec un campement et des grillades à votre disposition\, vous êtes sûr de passer un moment agréable et rafraîchissant. \nL’événement aura lieu à Jouques (13)\, sur le magnifique Domaine Saint Antonin\, un lieu qui promet une immersion totale dans vos scénarios fantastiques sous la voûte céleste. Pour plus d’informations\, n’hésitez pas à consulter notre site internet : https://association-derniere-lune.jimdosite.com/jeu-de-role-sous-les-etoiles/ \nIl vous suffit de dés\, jeux\, une tente\, de quoi griller (barbeuk dispo) et de l’eau. \nVoici quelques informations pratiques : \n\nLe lieu : Domaine Saint Antonin à Jouques (13)\, situé à proximité d’Aix-en-Provence.\nLe tarif : 5 euros pour les joueurs et GRATUIT pour le maître de jeu.\nVous avez la possibilité de camper dès la veille de l’événement.\nN’oubliez pas d’apporter vos dés\, vos jeux\, une tente\, de quoi faire des grillades (un barbecue sera à votre disposition) et de l’eau.\nDes toilettes sèches seront à votre disposition\, ainsi qu’une zone de campement à l’ombre des arbres. N’hésitez pas à apporter vos glacières.\n\nNous sommes impatients de vous accueillir dans ce cadre exceptionnel pour partager ensemble une passion commune\, celle du jeu de rôle. Préparez-vous à plonger dans un monde fantastique où votre imagination est la seule limite.
URL:https://almanach-des-joueurs.com/event/jeux-de-role-sous-les-etoiles-1er-opus/
LOCATION:13 – Terrain Dernière Lune\, JOUQUES\, Bouches-du-Rhône\, 13490\, France
CATEGORIES:Jeux de Rôle
ATTACH;FMTTYPE=image/jpeg:https://almanach-des-joueurs.com/wp-content/uploads/2023/06/353746654_802886014848038_8368268213170753339_n.jpg
END:VEVENT
END:VCALENDAR