BEGIN:VCALENDAR
VERSION:2.0
PRODID:-//Almanach - ECPv6.15.20//NONSGML v1.0//EN
CALSCALE:GREGORIAN
METHOD:PUBLISH
X-WR-CALNAME:Almanach
X-ORIGINAL-URL:https://almanach-des-joueurs.com
X-WR-CALDESC:Évènements pour Almanach
REFRESH-INTERVAL;VALUE=DURATION:PT1H
X-Robots-Tag:noindex
X-PUBLISHED-TTL:PT1H
BEGIN:VTIMEZONE
TZID:Europe/Paris
BEGIN:DAYLIGHT
TZOFFSETFROM:+0100
TZOFFSETTO:+0200
TZNAME:CEST
DTSTART:20240331T010000
END:DAYLIGHT
BEGIN:STANDARD
TZOFFSETFROM:+0200
TZOFFSETTO:+0100
TZNAME:CET
DTSTART:20241027T010000
END:STANDARD
BEGIN:DAYLIGHT
TZOFFSETFROM:+0100
TZOFFSETTO:+0200
TZNAME:CEST
DTSTART:20250330T010000
END:DAYLIGHT
BEGIN:STANDARD
TZOFFSETFROM:+0200
TZOFFSETTO:+0100
TZNAME:CET
DTSTART:20251026T010000
END:STANDARD
BEGIN:DAYLIGHT
TZOFFSETFROM:+0100
TZOFFSETTO:+0200
TZNAME:CEST
DTSTART:20260329T010000
END:DAYLIGHT
BEGIN:STANDARD
TZOFFSETFROM:+0200
TZOFFSETTO:+0100
TZNAME:CET
DTSTART:20261025T010000
END:STANDARD
END:VTIMEZONE
BEGIN:VEVENT
DTSTART;VALUE=DATE:20250814
DTEND;VALUE=DATE:20250817
DTSTAMP:20260423T002033
CREATED:20240110T225831Z
LAST-MODIFIED:20250325T171444Z
UID:2185-1755129600-1755388799@almanach-des-joueurs.com
SUMMARY:JEUX DE RÔLE SOUS LES ÉTOILES : 2eme Opus
DESCRIPTION:Jeux de Rôle sous les Étoiles – Une aventure nocturne inoubliable\n  \n🌌 Vivez une expérience unique en plein air avec « Jeux de Rôle sous les Étoiles ». Rejoignez-nous pour les éditions 2024 où\, en plus des sessions classiques de jeu de rôle\, nous vous proposons des tables de jeux de plateaux en extérieur. Une opportunité parfaite pour profiter des soirées d’été sous le ciel étoilé de Provence. \n🎲 Jouez\, explorez\, vivez dans un club à l’atmosphère détendue\, agrémenté d’un campement et de savoureuses grillades. Un moyen idéal de se rafraîchir\, de se détendre et de partager votre passion pour le jeu. \n🌟 Plongez dans un monde fantastique sous la voûte céleste. Notre projet rassemble les amateurs de jeu de rôle et les maîtres de jeu dans le cadre magnifique et naturel du Domaine Saint Antonin à Jouques (13)\, un lieu propice à l’imagination et à l’aventure. \n  \nINFORMATIONS PRATIQUES\n\nProposez votre table : Maîtres de jeu ou maîtres de plateau\, partagez votre passion en proposant votre table sur notre serveur Discord dédié à l’événement : Discord Dernière Lune.\nLieu : Domaine Saint Antonin à Jouques (13)\, près d’Aix-en-Provence.\nParticipation : 5 euros par joueur\, gratuit pour le maître de jeu ou le maître de plateau.\nÀ apporter : Dés\, jeux\, tente\, de quoi griller (barbecue disponible)\, eau\, siège\, table de camping\, glacières.\nCommodités : Toilettes sèches disponibles et zone de campement à l’ombre des arbres.\n\nQue vous soyez maître du jeu expérimenté\, joueur débutant ou simplement curieux\, inscrivez-vous pour une expérience unique de camping et de jeu en plein air. Notre terrain\, géré par l’association Dernière Lune\, accueille également des événements tels que BARBEUK & BATTLE et des jeux de rôle grandeur nature. \nVenez créer\, explorer\, et partager votre passion pour les jeux de rôle. Après le succès de notre première édition en juillet 2023\, nous sommes impatients de vous retrouver pour de nouvelles aventures ludiques et nocturnes ! \nSi vous faites partie d’un club ou êtes un créateur de jeux\, n’hésitez pas à nous contacter.
URL:https://almanach-des-joueurs.com/event/jeux-de-role-sous-les-etoiles-2eme-opus/
LOCATION:13 – Terrain Dernière Lune\, JOUQUES\, Bouches-du-Rhône\, 13490\, France
CATEGORIES:Jeux de Rôle
ATTACH;FMTTYPE=image/jpeg:https://almanach-des-joueurs.com/wp-content/uploads/2024/01/DALL·E-2024-01-10-23.57.47-A-captivating-night-time-scene-of-Jeux-de-Role-sous-les-Etoiles-an-outdoor-role-playing-and-board-game-event-set-in-the-enchanting-forest-of-Prove.jpg
END:VEVENT
END:VCALENDAR