BEGIN:VCALENDAR
VERSION:2.0
PRODID:-//Almanach - ECPv6.15.20//NONSGML v1.0//EN
CALSCALE:GREGORIAN
METHOD:PUBLISH
X-ORIGINAL-URL:https://almanach-des-joueurs.com
X-WR-CALDESC:Évènements pour Almanach
REFRESH-INTERVAL;VALUE=DURATION:PT1H
X-Robots-Tag:noindex
X-PUBLISHED-TTL:PT1H
BEGIN:VTIMEZONE
TZID:Europe/Paris
BEGIN:DAYLIGHT
TZOFFSETFROM:+0100
TZOFFSETTO:+0200
TZNAME:CEST
DTSTART:20220327T010000
END:DAYLIGHT
BEGIN:STANDARD
TZOFFSETFROM:+0200
TZOFFSETTO:+0100
TZNAME:CET
DTSTART:20221030T010000
END:STANDARD
BEGIN:DAYLIGHT
TZOFFSETFROM:+0100
TZOFFSETTO:+0200
TZNAME:CEST
DTSTART:20230326T010000
END:DAYLIGHT
BEGIN:STANDARD
TZOFFSETFROM:+0200
TZOFFSETTO:+0100
TZNAME:CET
DTSTART:20231029T010000
END:STANDARD
BEGIN:DAYLIGHT
TZOFFSETFROM:+0100
TZOFFSETTO:+0200
TZNAME:CEST
DTSTART:20240331T010000
END:DAYLIGHT
BEGIN:STANDARD
TZOFFSETFROM:+0200
TZOFFSETTO:+0100
TZNAME:CET
DTSTART:20241027T010000
END:STANDARD
END:VTIMEZONE
BEGIN:VEVENT
DTSTART;VALUE=DATE:20230818
DTEND;VALUE=DATE:20230821
DTSTAMP:20260425T222011
CREATED:20230711T085348Z
LAST-MODIFIED:20230727T111046Z
UID:2138-1692316800-1692575999@almanach-des-joueurs.com
SUMMARY:Assemblée du Soleil volume 5 !
DESCRIPTION:**Bienvenue à l’Assemblée du Soleil !** \nChaque année\, le cœur du sud de la France bat au rythme de l’Assemblée du Soleil – un événement incontournable pour tous les passionnés de Jeux de Rôles Grandeur Nature (GN) dans la région. Situé dans le charmant Gard\, niché entre les villes historiques de Nîmes et Montpellier\, l’événement a lieu pendant la belle période estivale. \nLa beauté de l’Assemblée du Soleil ne réside pas uniquement dans le décor naturel éblouissant\, mais aussi dans l’effervescence du partage et de la camaraderie. Ici\, se mêlent l’esprit ludique\, la détente et la fraternité. C’est une occasion unique pour les GNistes de tous horizons de se retrouver\, d’échanger des histoires et des expériences\, d’entrer dans l’imaginaire et de créer ensemble des aventures mémorables. \nNée de l’union de plusieurs associations\, l’Assemblée du Soleil est bien plus qu’un simple rassemblement. C’est une manifestation du pouvoir de la collaboration et du partage. Cette célébration inter-associative est un témoignage de la diversité et de l’énergie qui caractérisent la communauté des GNistes dans le sud de la France. \nAlors\, que vous soyez un vétéran des GN ou un débutant curieux\, venez nous rejoindre pour ces journées exceptionnelles. Détendez-vous\, amusez-vous et faites partie de cette merveilleuse communauté qui donne vie à l’Assemblée du Soleil. \nDates : 18 au 20 Aout 2023\nLieu : Uchaud\nType d’événement : Rassemblement inter associatif de GNistes\nAmbiance : Détente et ludique \nLa date se rapproche et\, maintenant que vous avez une meilleure visibilité sur votre calendrier\, voici le lien vers le formulaire d’inscription ! Il contient : \n\nles infos pour votre venue (histoire qu’on prévoit le bon nombre de merguez au BBQ)\nce que vous comptez partager avec nous (atelier\, débat\, petit ou grand jeu\, coin de parasol)\nvos disponibilités pour la logistique\nle lien vers le HelloAsso\nle lien vers le tableur pour organiser au mieux les repas participatifs\n\nhttps://forms.gle/rk8Bj4AQqMJnVfJQ7 Nous nous retrouvons très bientôt au milieu des cigales ! \nNous avons hâte de vous accueillir à l’Assemblée du Soleil cette année. Préparez-vous pour une expérience inoubliable ! \nSomnium Bellator\, L’Héritage d’Hallapandur\, Les Légendes d’Espigoule\, Terra Ludis\, Jeux Dés Racines
URL:https://almanach-des-joueurs.com/event/assemblee-du-soleil-volume-5/
LOCATION:Uchaud\, Uchaud\, Gard\, 30620\, France
CATEGORIES:Salons & Médiévales
ATTACH;FMTTYPE=image/jpeg:https://almanach-des-joueurs.com/wp-content/uploads/2023/07/assemblee_soleil.jpg
END:VEVENT
END:VCALENDAR