BEGIN:VCALENDAR
VERSION:2.0
PRODID:-//Almanach - ECPv6.15.20//NONSGML v1.0//EN
CALSCALE:GREGORIAN
METHOD:PUBLISH
X-ORIGINAL-URL:https://almanach-des-joueurs.com
X-WR-CALDESC:Évènements pour Almanach
REFRESH-INTERVAL;VALUE=DURATION:PT1H
X-Robots-Tag:noindex
X-PUBLISHED-TTL:PT1H
BEGIN:VTIMEZONE
TZID:Europe/Paris
BEGIN:DAYLIGHT
TZOFFSETFROM:+0100
TZOFFSETTO:+0200
TZNAME:CEST
DTSTART:20240331T010000
END:DAYLIGHT
BEGIN:STANDARD
TZOFFSETFROM:+0200
TZOFFSETTO:+0100
TZNAME:CET
DTSTART:20241027T010000
END:STANDARD
BEGIN:DAYLIGHT
TZOFFSETFROM:+0100
TZOFFSETTO:+0200
TZNAME:CEST
DTSTART:20250330T010000
END:DAYLIGHT
BEGIN:STANDARD
TZOFFSETFROM:+0200
TZOFFSETTO:+0100
TZNAME:CET
DTSTART:20251026T010000
END:STANDARD
BEGIN:DAYLIGHT
TZOFFSETFROM:+0100
TZOFFSETTO:+0200
TZNAME:CEST
DTSTART:20260329T010000
END:DAYLIGHT
BEGIN:STANDARD
TZOFFSETFROM:+0200
TZOFFSETTO:+0100
TZNAME:CET
DTSTART:20261025T010000
END:STANDARD
END:VTIMEZONE
BEGIN:VEVENT
DTSTART;VALUE=DATE:20250228
DTEND;VALUE=DATE:20250303
DTSTAMP:20260424T185241
CREATED:20250213T104306Z
LAST-MODIFIED:20250213T104306Z
UID:2704-1740700800-1740959999@almanach-des-joueurs.com
SUMMARY:Festival International des Jeux
DESCRIPTION:Le Festival International des Jeux (FIJ) est un rendez-vous annuel incontournable pour tous les passionnés de jeux\, qu’il s’agisse de jeux de société\, de cartes\, de rôles ou de vidéo. \nOrganisé à Cannes au Palais des Festivals et des Congrès\, cet événement réunit éditeurs\, auteurs\, illustrateurs et joueurs autour de démonstrations\, de tournois et d’animations. C’est également lors du FIJ que sont décernées chaque année les récompenses ludiques de référence comme l’As d’Or-Jeu de l’Année. \nGrâce à sa diversité d’exposants et à son ambiance conviviale\, le festival attire un public varié\, des familles aux joueurs confirmés\, faisant de cet espace un lieu d’échange et de découverte unique dans le monde du jeu.
URL:https://almanach-des-joueurs.com/event/festival-international-des-jeux/
CATEGORIES:Salons & Médiévales
ATTACH;FMTTYPE=image/jpeg:https://almanach-des-joueurs.com/wp-content/uploads/2025/02/478332570_632016255860957_1574136257961746463_n.jpg
END:VEVENT
END:VCALENDAR