BEGIN:VCALENDAR
VERSION:2.0
PRODID:-//Almanach - ECPv6.15.20//NONSGML v1.0//EN
CALSCALE:GREGORIAN
METHOD:PUBLISH
X-WR-CALNAME:Almanach
X-ORIGINAL-URL:https://almanach-des-joueurs.com
X-WR-CALDESC:Évènements pour Almanach
REFRESH-INTERVAL;VALUE=DURATION:PT1H
X-Robots-Tag:noindex
X-PUBLISHED-TTL:PT1H
BEGIN:VTIMEZONE
TZID:Europe/Paris
BEGIN:DAYLIGHT
TZOFFSETFROM:+0100
TZOFFSETTO:+0200
TZNAME:CEST
DTSTART:20240331T010000
END:DAYLIGHT
BEGIN:STANDARD
TZOFFSETFROM:+0200
TZOFFSETTO:+0100
TZNAME:CET
DTSTART:20241027T010000
END:STANDARD
BEGIN:DAYLIGHT
TZOFFSETFROM:+0100
TZOFFSETTO:+0200
TZNAME:CEST
DTSTART:20250330T010000
END:DAYLIGHT
BEGIN:STANDARD
TZOFFSETFROM:+0200
TZOFFSETTO:+0100
TZNAME:CET
DTSTART:20251026T010000
END:STANDARD
BEGIN:DAYLIGHT
TZOFFSETFROM:+0100
TZOFFSETTO:+0200
TZNAME:CEST
DTSTART:20260329T010000
END:DAYLIGHT
BEGIN:STANDARD
TZOFFSETFROM:+0200
TZOFFSETTO:+0100
TZNAME:CET
DTSTART:20261025T010000
END:STANDARD
END:VTIMEZONE
BEGIN:VEVENT
DTSTART;VALUE=DATE:20250430
DTEND;VALUE=DATE:20250505
DTSTAMP:20260424T141132
CREATED:20250325T165545Z
LAST-MODIFIED:20250325T165631Z
UID:2721-1745971200-1746403199@almanach-des-joueurs.com
SUMMARY:Echoes & Merveilles
DESCRIPTION:Lors du 7ᵉ Festival Echos & Merveilles\, qui se tiendra du 30 avril au 4 mai 2025 à Bruguières\, sur le site du Bascala et ses cinq hectares de verdure. Pendant cinq jours\, petits et grands pourront explorer un univers mêlant cultures fantastiques\, médiévalité et mondes oniriques à travers une programmation riche et variée. \nTrois scènes de concerts accueilleront les plus grands noms des musiques celtiques\, pagan folk et nordiques venus de toute l’Europe. Attendez-vous à vibrer au son de Bear McCreary\, Faun\, Kalandra\, Wind Rose\, D’Artagnan\, Myrkur\, The Trouble Notes\, Deloraine\, Eihwar\, Cécile Corbel\, Neko Light Orchestra et bien d’autres encore ! \nEn parallèle\, un marché artisanal féérique réunira 150 exposants venus de toute la France\, ainsi qu’une vingtaine de restaurateurs proposant saveurs et mets originaux. Côté animations\, des dizaines de troupes professionnelles animeront le site\, tandis qu’un vaste salon du livre de l’imaginaire donnera l’occasion de rencontrer une centaine d’auteurs et d’illustrateurs passionnés. Au programme également : initiations\, reconstitutions historiques\, grandeur nature\, troll ball\, jeux et bien plus. \nRéservez dès maintenant pour ne rien manquer de cette 7ᵉ édition dédiée à l’émerveillement\, et vivez une expérience immersive entre fantastique\, médievalité et créations artistiques au Festival Echos & Merveilles 2025.
URL:https://almanach-des-joueurs.com/event/echoes-merveilles/
CATEGORIES:Salons & Médiévales
ATTACH;FMTTYPE=image/jpeg:https://almanach-des-joueurs.com/wp-content/uploads/2025/03/affiche_2025.jpg
END:VEVENT
BEGIN:VEVENT
DTSTART;VALUE=DATE:20250517
DTEND;VALUE=DATE:20250519
DTSTAMP:20260424T141132
CREATED:20240503T094945Z
LAST-MODIFIED:20250511T142041Z
UID:2354-1747440000-1747612799@almanach-des-joueurs.com
SUMMARY:Salon : Les Jeux d'Aubagne
DESCRIPTION:📣 LES JEUX D’AUBAGNE 2025 ! 📣\nOn vous attend nombreux pour cette 2eme édition \n🔥 Les 17 & 18 mai 2025\, préparez-vous pour un week-end 100% jeu à Aubagne… et l’entrée est GRATUITE ! \n🤩 Avec la présence exceptionnelle de Jaden Kor & Ceizyl !\nVenez rencontrer des créateurs passionnés\, des auteurs\, éditeurs\, artisans et partager avec eux des moments inoubliables autour du jeu ! \n🎲 AU PROGRAMME :\n✅ Jeu de société\n✅ Jeu de rôle\n✅ Jeu de cartes à collectionner\n✅ Jeu de figurines\n✅ Grandeur nature\n✅ Escrime ludique\n✅ Troll Ball\n✅ Sabre laser\n✅ Et bien d’autres surprises ! \n🎟️ Accès libre & gratuit – Venez jouer\, découvrir\, échanger et vibrer avec nous ! \n📍 SAVE THE DATE : 17 & 18 mai 2025 – Espace du bras d’or\, Aubagne\nSamedi : 9h -19h\nDimanche : 9h – 19h\nNocturne : 19h – 1h \nAlors\, prêt(e) à rejoindre l’aventure ? 😏♟️🎭 \nEt un immense merci à sysou (les chats mécaniques tatouage) pour l’illustration 🤩
URL:https://almanach-des-joueurs.com/event/jeux-daubagne/
LOCATION:13 – Aubagne\, Aubagne\, 13400\, France
CATEGORIES:Salons & Médiévales
ATTACH;FMTTYPE=image/jpeg:https://almanach-des-joueurs.com/wp-content/uploads/2025/04/484325545_652893090719880_8368246134986064096_n.jpg
END:VEVENT
END:VCALENDAR