BEGIN:VCALENDAR
VERSION:2.0
PRODID:-//Almanach - ECPv6.15.20//NONSGML v1.0//EN
CALSCALE:GREGORIAN
METHOD:PUBLISH
X-WR-CALNAME:Almanach
X-ORIGINAL-URL:https://almanach-des-joueurs.com
X-WR-CALDESC:Évènements pour Almanach
REFRESH-INTERVAL;VALUE=DURATION:PT1H
X-Robots-Tag:noindex
X-PUBLISHED-TTL:PT1H
BEGIN:VTIMEZONE
TZID:Europe/Paris
BEGIN:DAYLIGHT
TZOFFSETFROM:+0100
TZOFFSETTO:+0200
TZNAME:CEST
DTSTART:20250330T010000
END:DAYLIGHT
BEGIN:STANDARD
TZOFFSETFROM:+0200
TZOFFSETTO:+0100
TZNAME:CET
DTSTART:20251026T010000
END:STANDARD
BEGIN:DAYLIGHT
TZOFFSETFROM:+0100
TZOFFSETTO:+0200
TZNAME:CEST
DTSTART:20260329T010000
END:DAYLIGHT
BEGIN:STANDARD
TZOFFSETFROM:+0200
TZOFFSETTO:+0100
TZNAME:CET
DTSTART:20261025T010000
END:STANDARD
BEGIN:DAYLIGHT
TZOFFSETFROM:+0100
TZOFFSETTO:+0200
TZNAME:CEST
DTSTART:20270328T010000
END:DAYLIGHT
BEGIN:STANDARD
TZOFFSETFROM:+0200
TZOFFSETTO:+0100
TZNAME:CET
DTSTART:20271031T010000
END:STANDARD
END:VTIMEZONE
BEGIN:VEVENT
DTSTART;TZID=Europe/Paris:20260327T200000
DTEND;TZID=Europe/Paris:20260329T140000
DTSTAMP:20260422T133412
CREATED:20251203T203030Z
LAST-MODIFIED:20251203T203030Z
UID:2849-1774641600-1774792800@almanach-des-joueurs.com
SUMMARY:Sengoku Jidai : Shikoku 1555 2eme edition
DESCRIPTION:Vous avez vu la série Shōgun ? Apprécié l’animé Les Carnets de l’apothicaire ? Lu Le Tigre des neiges ou Vagabond ? Passé des heures sur Total War: Shogun 2 ? Vous cherchiez une occasion de porter un kimono ? Vous êtes fasciné par le Japon médiéval ? \nAlors rejoignez-nous pour un jeu de rôle grandeur nature (GN)\, de 18 joueurs\, où la négociation géopolitique est au cœur de l’intrigue. \n  \nLes personnages seront pour beaucoup inspirés de faits historiques\, mais vous évoluerez dans une version uchronique et romancée du Japon médiéval. \nVous incarnerez des personnages précréés\, organisés en factions de trois joueurs — samouraïs\, moines ou pirates. Vous contrôlerez vos agents sur l’ensemble de la carte de l’île de Shikoku\, à la recherche des forteresses et des secrets de vos rivaux. \nLes personnages étant genrés\, il est possible qu’un joueur interprète un personnage d’un genre différent. \nAttendez-vous à une grande quantité d’informations à décrypter\, à des repas thématiques servis à table\, et à une atmosphère soigneusement recréée. \nLe GN se déroulera dans une belle bâtisse avec couchages en intérieur\, douches et toilettes à disposition\, ainsi qu’un système informatique dédié pour gérer les rapports d’agents et la transmission d’informations. Nous invitons chaque joueur à apporter un smartphone ou un ordinateur portable pour le jeu. Certaines décorations d’époque seront mises à disposition pour les camoufler.\nUne présentation du système de jeu et une mise en ambiance auront lieu le vendredi soir à partir de 21h. Le jeu commencera samedi matin et se terminera dimanche à midi. \nLes petits déjeuners\, déjeuners de samedi et dimanche\, le dîner du samedi\, ainsi que plusieurs goûters seront fournis\, dans un style japonais traditionnel.\nLes petits déjeuners seront majoritairement salés\, peu de desserts sont prévus\, mais les goûters seront sucrés. \nAucun combat physique n’est prévu ni aucune compétence activable\, mais un haut niveau d’exigence est attendu pour les costumes et le rôleplay\, afin d’offrir une immersion visuelle digne de l’époque Sengoku Jidai. \n  \n> Inscriptions <
URL:https://almanach-des-joueurs.com/event/sengoku-jidai-shikoku-1555-2eme-edition/
LOCATION:83 – Rians – Domaine des Blaques\, 83560\, France
CATEGORIES:Grandeur Nature,Murder Party
ATTACH;FMTTYPE=image/jpeg:https://almanach-des-joueurs.com/wp-content/uploads/2025/12/WhatsApp-Image-2025-11-26-at-09.30.39.jpeg
END:VEVENT
END:VCALENDAR